BEGIN:VCALENDAR
VERSION:2.0
PRODID:-//Air Adelphi - ECPv6.6.3//NONSGML v1.0//EN
CALSCALE:GREGORIAN
METHOD:PUBLISH
X-ORIGINAL-URL:https://airadelphi.com
X-WR-CALDESC:Events for Air Adelphi
REFRESH-INTERVAL;VALUE=DURATION:PT1H
X-Robots-Tag:noindex
X-PUBLISHED-TTL:PT1H
BEGIN:VTIMEZONE
TZID:UTC
BEGIN:STANDARD
TZOFFSETFROM:+0000
TZOFFSETTO:+0000
TZNAME:UTC
DTSTART:20250101T000000
END:STANDARD
END:VTIMEZONE
BEGIN:VEVENT
DTSTART;VALUE=DATE:20250611
DTEND;VALUE=DATE:20250624
DTSTAMP:20260424T160155
CREATED:20250626T212445Z
LAST-MODIFIED:20250626T212911Z
UID:3102-1749600000-1750723199@airadelphi.com
SUMMARY:West Indies Women's Home Series Vs South Africa
DESCRIPTION:June 11\nFirst ODI\n3Ws Oval\, Barbados\n\n\nJune 14\nSecond ODI\n3Ws Oval\, Barbados\n\n\nJune 17\nThird ODI\n3Ws Oval\, Barbados\n\n\nJune 20\nFirst T20\n3Ws Oval\, Barbados\n\n\nJune 22\nSecond T20\n3Ws Oval\, Barbados\n\n\nJune 23\nThird T20\n3Ws Oval\, Barbados
URL:https://airadelphi.com/event/west-indies-womens-home-series-vs-south-africa/
CATEGORIES:Barbados
END:VEVENT
END:VCALENDAR