BEGIN:VCALENDAR
VERSION:2.0
PRODID:-//Air Adelphi - ECPv6.6.3//NONSGML v1.0//EN
CALSCALE:GREGORIAN
METHOD:PUBLISH
X-ORIGINAL-URL:https://airadelphi.com
X-WR-CALDESC:Events for Air Adelphi
REFRESH-INTERVAL;VALUE=DURATION:PT1H
X-Robots-Tag:noindex
X-PUBLISHED-TTL:PT1H
BEGIN:VTIMEZONE
TZID:UTC
BEGIN:STANDARD
TZOFFSETFROM:+0000
TZOFFSETTO:+0000
TZNAME:UTC
DTSTART:20250101T000000
END:STANDARD
END:VTIMEZONE
BEGIN:VEVENT
DTSTART;VALUE=DATE:20250804
DTEND;VALUE=DATE:20250805
DTSTAMP:20260424T001638
CREATED:20250630T152137Z
LAST-MODIFIED:20250630T154508Z
UID:3119-1754265600-1754351999@airadelphi.com
SUMMARY:Crop Over Festival Grand Kadooment
DESCRIPTION:Grand Kadooment Day celebrates the end of Crop Over\, where Masquerade Bands make their way to Spring Garden highway with revelers dressed in sequin costumes decorated with colorful feathers\, jewels and bright accents. The finale of Crop Over’s events makes this the island’s most exciting day of the year. Crop Over\, it sweet fuh days!
URL:https://airadelphi.com/event/crop-over-festival-grand-kadooment/
CATEGORIES:Barbados
END:VEVENT
END:VCALENDAR