BEGIN:VCALENDAR
VERSION:2.0
PRODID:-//Air Adelphi - ECPv6.6.3//NONSGML v1.0//EN
CALSCALE:GREGORIAN
METHOD:PUBLISH
X-WR-CALNAME:Air Adelphi
X-ORIGINAL-URL:https://airadelphi.com
X-WR-CALDESC:Events for Air Adelphi
REFRESH-INTERVAL;VALUE=DURATION:PT1H
X-Robots-Tag:noindex
X-PUBLISHED-TTL:PT1H
BEGIN:VTIMEZONE
TZID:UTC
BEGIN:STANDARD
TZOFFSETFROM:+0000
TZOFFSETTO:+0000
TZNAME:UTC
DTSTART:20250101T000000
END:STANDARD
END:VTIMEZONE
BEGIN:VEVENT
DTSTART;VALUE=DATE:20250822
DTEND;VALUE=DATE:20250901
DTSTAMP:20260424T002206
CREATED:20250630T152341Z
LAST-MODIFIED:20250630T152341Z
UID:3124-1755820800-1756684799@airadelphi.com
SUMMARY:CARIFESTA
DESCRIPTION:
URL:https://airadelphi.com/event/carifesta/
CATEGORIES:Barbados
END:VEVENT
END:VCALENDAR