BEGIN:VCALENDAR
VERSION:2.0
PRODID:-//Air Adelphi - ECPv6.6.3//NONSGML v1.0//EN
CALSCALE:GREGORIAN
METHOD:PUBLISH
X-WR-CALNAME:Air Adelphi
X-ORIGINAL-URL:https://airadelphi.com
X-WR-CALDESC:Events for Air Adelphi
REFRESH-INTERVAL;VALUE=DURATION:PT1H
X-Robots-Tag:noindex
X-PUBLISHED-TTL:PT1H
BEGIN:VTIMEZONE
TZID:UTC
BEGIN:STANDARD
TZOFFSETFROM:+0000
TZOFFSETTO:+0000
TZNAME:UTC
DTSTART:20250101T000000
END:STANDARD
END:VTIMEZONE
BEGIN:VEVENT
DTSTART;VALUE=DATE:20251129
DTEND;VALUE=DATE:20251130
DTSTAMP:20260425T141220
CREATED:20250630T152902Z
LAST-MODIFIED:20250630T152902Z
UID:3132-1764374400-1764460799@airadelphi.com
SUMMARY:Barbados Independence Surf Festival
DESCRIPTION:This is the biggest surfing event on the Barbados Surfing Association’s Calendar. This year we are reintroducing the concept of a Surfing Festival\, where different aspects of surfing and local culture will be highlighted.
URL:https://airadelphi.com/event/barbados-independence-surf-festival/
CATEGORIES:Barbados
END:VEVENT
END:VCALENDAR