BEGIN:VCALENDAR
VERSION:2.0
PRODID:-//Air Adelphi - ECPv6.6.3//NONSGML v1.0//EN
CALSCALE:GREGORIAN
METHOD:PUBLISH
X-WR-CALNAME:Air Adelphi
X-ORIGINAL-URL:https://airadelphi.com
X-WR-CALDESC:Events for Air Adelphi
REFRESH-INTERVAL;VALUE=DURATION:PT1H
X-Robots-Tag:noindex
X-PUBLISHED-TTL:PT1H
BEGIN:VTIMEZONE
TZID:UTC
BEGIN:STANDARD
TZOFFSETFROM:+0000
TZOFFSETTO:+0000
TZNAME:UTC
DTSTART:20250101T000000
END:STANDARD
END:VTIMEZONE
BEGIN:VEVENT
DTSTART;VALUE=DATE:20251226
DTEND;VALUE=DATE:20251227
DTSTAMP:20260425T130621
CREATED:20250630T153634Z
LAST-MODIFIED:20250630T153634Z
UID:3136-1766707200-1766793599@airadelphi.com
SUMMARY:Rugby World 7s Tournament
DESCRIPTION:The Rugby Barbados World 7s Tournament is the longest-running club rugby sevens event in the Caribbean. Featuring high-intensity matches\, international teams\, and an electric atmosphere\, it offers a thrilling weekend of top-tier rugby action. With roots stretching back over 30 years\, it’s a true celebration of the sport.
URL:https://airadelphi.com/event/rugby-world-7s-tournament/
CATEGORIES:Barbados
END:VEVENT
END:VCALENDAR