BEGIN:VCALENDAR
VERSION:2.0
PRODID:-//Air Adelphi - ECPv6.6.3//NONSGML v1.0//EN
CALSCALE:GREGORIAN
METHOD:PUBLISH
X-ORIGINAL-URL:https://airadelphi.com
X-WR-CALDESC:Events for Air Adelphi
REFRESH-INTERVAL;VALUE=DURATION:PT1H
X-Robots-Tag:noindex
X-PUBLISHED-TTL:PT1H
BEGIN:VTIMEZONE
TZID:UTC
BEGIN:STANDARD
TZOFFSETFROM:+0000
TZOFFSETTO:+0000
TZNAME:UTC
DTSTART:20260101T000000
END:STANDARD
END:VTIMEZONE
BEGIN:VEVENT
DTSTART;TZID=UTC:20260403T000000
DTEND;TZID=UTC:20260406T000000
DTSTAMP:20260424T064033
CREATED:20260224T162053Z
LAST-MODIFIED:20260224T162322Z
UID:3614-1775174400-1775433600@airadelphi.com
SUMMARY:Oistin's Fish Festival\, Christ Church\, Barbados
DESCRIPTION:
URL:https://airadelphi.com/event/oistins-fish-festival-christ-church-barbados/
CATEGORIES:Barbados
END:VEVENT
BEGIN:VEVENT
DTSTART;TZID=UTC:20260403T000000
DTEND;TZID=UTC:20260406T235900
DTSTAMP:20260424T064033
CREATED:20260224T160749Z
LAST-MODIFIED:20260224T162350Z
UID:3607-1775174400-1775519940@airadelphi.com
SUMMARY:Bequia Easter Regatta
DESCRIPTION:
URL:https://airadelphi.com/event/bequia-easter-regatta/
CATEGORIES:St. Vincent
END:VEVENT
BEGIN:VEVENT
DTSTART;TZID=UTC:20260404T000000
DTEND;TZID=UTC:20260406T000000
DTSTAMP:20260424T064033
CREATED:20260224T162053Z
LAST-MODIFIED:20260224T162418Z
UID:3615-1775260800-1775433600@airadelphi.com
SUMMARY:53rd Carifta Games\, Grenada
DESCRIPTION:
URL:https://airadelphi.com/event/53rd-carifta-games-grenada/
CATEGORIES:Grenada
END:VEVENT
BEGIN:VEVENT
DTSTART;TZID=UTC:20260404T000000
DTEND;TZID=UTC:20260410T000000
DTSTAMP:20260424T064033
CREATED:20260224T162053Z
LAST-MODIFIED:20260224T162439Z
UID:3616-1775260800-1775779200@airadelphi.com
SUMMARY:39th Carifta Aquatic Games\, Martinique
DESCRIPTION:
URL:https://airadelphi.com/event/39th-carifta-aquatic-games-martinique/
CATEGORIES:Martinique
END:VEVENT
END:VCALENDAR