BEGIN:VCALENDAR
VERSION:2.0
PRODID:-//Air Adelphi - ECPv6.6.3//NONSGML v1.0//EN
CALSCALE:GREGORIAN
METHOD:PUBLISH
X-WR-CALNAME:Air Adelphi
X-ORIGINAL-URL:https://airadelphi.com
X-WR-CALDESC:Events for Air Adelphi
REFRESH-INTERVAL;VALUE=DURATION:PT1H
X-Robots-Tag:noindex
X-PUBLISHED-TTL:PT1H
BEGIN:VTIMEZONE
TZID:UTC
BEGIN:STANDARD
TZOFFSETFROM:+0000
TZOFFSETTO:+0000
TZNAME:UTC
DTSTART:20250101T000000
END:STANDARD
END:VTIMEZONE
BEGIN:VEVENT
DTSTART;VALUE=DATE:20250608
DTEND;VALUE=DATE:20250609
DTSTAMP:20260420T070440
CREATED:20250624T173530Z
LAST-MODIFIED:20250630T154454Z
UID:3076-1749340800-1749427199@airadelphi.com
SUMMARY:Canouan Sailing Club - Canouan Regatta
DESCRIPTION:
URL:https://airadelphi.com/event/st-vincent-canouan-sailing-club-canouan-regatta/
CATEGORIES:St. Vincent
END:VEVENT
BEGIN:VEVENT
DTSTART;VALUE=DATE:20250606
DTEND;VALUE=DATE:20250610
DTSTAMP:20260420T070440
CREATED:20250625T020830Z
LAST-MODIFIED:20250625T020830Z
UID:3099-1749168000-1749513599@airadelphi.com
SUMMARY:Barbados Invitational Masters Classic
DESCRIPTION:The Barbados Invitational Masters Classic is a premier football tournament for players aged 35 and over. Known for its competitive matches and festive atmosphere\, the event draws seasoned teams from the Caribbean and beyond. In 2024\, over 500 international participants joined\, making it a standout sporting festival filled with camaraderie and high-energy action.
URL:https://airadelphi.com/event/barbados-invitational-masters-classic/
CATEGORIES:Barbados
END:VEVENT
BEGIN:VEVENT
DTSTART;VALUE=DATE:20250605
DTEND;VALUE=DATE:20250610
DTSTAMP:20260420T070440
CREATED:20250630T153831Z
LAST-MODIFIED:20250630T153831Z
UID:3138-1749081600-1749513599@airadelphi.com
SUMMARY:Saint Lucia International Masters Football Invitational
DESCRIPTION:
URL:https://airadelphi.com/event/saint-lucia-international-masters-football-invitational/
CATEGORIES:St. Lucia
END:VEVENT
BEGIN:VEVENT
DTSTART;VALUE=DATE:20250531
DTEND;VALUE=DATE:20250602
DTSTAMP:20260420T070440
CREATED:20250624T173444Z
LAST-MODIFIED:20250630T154341Z
UID:3074-1748649600-1748822399@airadelphi.com
SUMMARY:The Hub Collective and Grenadines Gold - One Fest Canouan
DESCRIPTION:
URL:https://airadelphi.com/event/st-vincent-the-hub-collective-and-grenadines-gold-one-fest-canouan/
CATEGORIES:St. Vincent
END:VEVENT
BEGIN:VEVENT
DTSTART;VALUE=DATE:20250530
DTEND;VALUE=DATE:20250602
DTSTAMP:20260420T070440
CREATED:20250624T181024Z
LAST-MODIFIED:20250630T154409Z
UID:3096-1748563200-1748822399@airadelphi.com
SUMMARY:Auto Racing League
DESCRIPTION:Get your adrenaline pumping at the Barbados Auto Racing League\, where high-speed thrills meet fierce competition. This league showcases the island’s best drivers and racing machines\, offering fans an exhilarating motorsport experience.
URL:https://airadelphi.com/event/barbados-auto-racing-league/
CATEGORIES:Barbados
END:VEVENT
BEGIN:VEVENT
DTSTART;VALUE=DATE:20250530
DTEND;VALUE=DATE:20250602
DTSTAMP:20260420T070440
CREATED:20250624T180626Z
LAST-MODIFIED:20250630T154405Z
UID:3094-1748563200-1748822399@airadelphi.com
SUMMARY:Rally Barbados - King of the Hill Rally Show
DESCRIPTION:Rally Barbados is the ultimate motorsport event in the Caribbean\, drawing elite drivers and motorsport enthusiasts. The King of the Hill Rally Show serves as the high-octane prelude\, giving fans a chance to see competitors test their limits before the main rally. With international drivers\, renowned champions\, and thousands of fans lining the course\, the excitement is unmatched.
URL:https://airadelphi.com/event/barbados-rally-barbados-king-of-the-hill-rally-show/
CATEGORIES:Barbados
END:VEVENT
BEGIN:VEVENT
DTSTART;VALUE=DATE:20250530
DTEND;VALUE=DATE:20250602
DTSTAMP:20260420T070440
CREATED:20250624T180513Z
LAST-MODIFIED:20250630T154400Z
UID:3090-1748563200-1748822399@airadelphi.com
SUMMARY:Rally Barbados
DESCRIPTION:Rally Barbados is the crown jewel of motorsports in Barbados\, its huge popular fanbase gathers spectators and motor enthusiasts across the island as they follow the drivers competing for the renowned title of Rally Barbados champion. This event has attracted international drivers and multiple WRC champions most notable names such as Ken Block and Elfyn Evans. Throughout 34 editions of Rally Barbados over 600+ overseas participants and 32 visit countries have been represented.
URL:https://airadelphi.com/event/barbados-rally-barbados/
CATEGORIES:Barbados
END:VEVENT
BEGIN:VEVENT
DTSTART;VALUE=DATE:20250525
DTEND;VALUE=DATE:20250602
DTSTAMP:20260420T070440
CREATED:20250624T180326Z
LAST-MODIFIED:20250630T154415Z
UID:3088-1748131200-1748822399@airadelphi.com
SUMMARY:Gospelfest
DESCRIPTION:The Barbados Gospelfest is a week-long celebration of faith and music\, featuring powerful performances by renowned gospel artists. From soul-stirring choirs to uplifting solo acts\, this festival showcases the best of local\, regional\, and international gospel talent. Each concert offers a spiritually enriching experience\, making it a highlight on the island’s cultural calendar.
URL:https://airadelphi.com/event/barbados-gospelfest/
CATEGORIES:Barbados
END:VEVENT
END:VCALENDAR