BEGIN:VCALENDAR
VERSION:2.0
PRODID:-//Air Adelphi - ECPv6.6.3//NONSGML v1.0//EN
CALSCALE:GREGORIAN
METHOD:PUBLISH
X-WR-CALNAME:Air Adelphi
X-ORIGINAL-URL:https://airadelphi.com/fr
X-WR-CALDESC:évènements pour Air Adelphi
REFRESH-INTERVAL;VALUE=DURATION:PT1H
X-Robots-Tag:noindex
X-PUBLISHED-TTL:PT1H
BEGIN:VTIMEZONE
TZID:UTC
BEGIN:STANDARD
TZOFFSETFROM:+0000
TZOFFSETTO:+0000
TZNAME:UTC
DTSTART:20250101T000000
END:STANDARD
END:VTIMEZONE
BEGIN:VEVENT
DTSTART;VALUE=DATE:20250727
DTEND;VALUE=DATE:20250804
DTSTAMP:20260424T025403
CREATED:20250630T154252Z
LAST-MODIFIED:20250630T154259Z
UID:3160-1753574400-1754265599@airadelphi.com
SUMMARY:Martinique Yole boat Race
DESCRIPTION:
URL:https://airadelphi.com/fr/event/martinique-yole-boat-race/
END:VEVENT
END:VCALENDAR